BEGIN:VCALENDAR
VERSION:2.0
PRODID:-//Telerik Inc.//NONSGML RadScheduler//EN
METHOD:PUBLISH
BEGIN:VEVENT
DTSTART:20230612T210000Z
DTEND:20230612T220000Z
UID:20231030T204759Z-
DTSTAMP:20231030T204759Z
LOCATION:   
SUMMARY:Sample Event Listing
DESCRIPTION:This is a description of your event.
END:VEVENT
END:VCALENDAR
